BEGIN:VCALENDAR
VERSION:2.0
PRODID:SchoolNow
CALSCALE:GREGORIAN
BEGIN:VEVENT
UID:13a7a30e-5051-11f0-b493-0a58a9feac02
DTSTAMP:20260417T214241Z
SUMMARY:Lā hope loa nā kumu
URL;VALUE=URI:https://www.anuenue.org/calendar/8344847/la-hope-loa-na-kumu
DTSTART;VALUE=DATE:20260529
DTEND;VALUE=DATE:20260530
END:VEVENT
END:VCALENDAR
